Package: SPIAT Version: 1.11.0 Command: /home/biocbuild/R/R/bin/R CMD build --keep-empty-dirs --no-resave-data SPIAT StartedAt: 2025-10-03 03:27:33 -0000 (Fri, 03 Oct 2025) EndedAt: 2025-10-03 03:31:34 -0000 (Fri, 03 Oct 2025) EllapsedTime: 240.1 seconds RetCode: 0 Status: OK PackageFile: SPIAT_1.11.0.tar.gz PackageFileSize: 5.715 MiB