Package: SPIAT Version: 1.13.0 Command: /home/biocbuild/bbs-3.23-bioc/R/bin/R CMD INSTALL SPIAT StartedAt: 2025-11-20 15:23:29 -0500 (Thu, 20 Nov 2025) EndedAt: 2025-11-20 15:23:59 -0500 (Thu, 20 Nov 2025) EllapsedTime: 29.4 seconds RetCode: 0 Status: OK