Package: SPIAT Version: 1.13.0 Command: /home/biocbuild/bbs-3.23-bioc/R/bin/R CMD check --install=check:SPIAT.install-out.txt --library=/home/biocbuild/bbs-3.23-bioc/R/site-library --timings SPIAT_1.13.0.tar.gz StartedAt: 2025-11-21 04:20:44 -0500 (Fri, 21 Nov 2025) EndedAt: 2025-11-21 04:29:40 -0500 (Fri, 21 Nov 2025) EllapsedTime: 536.6 seconds RetCode: 0 Status: OK CheckDir: SPIAT.Rcheck Warnings: 0