Package: SPIA Version: 2.63.0 Command: /home/biocbuild/bbs-3.23-bioc/R/bin/R CMD INSTALL SPIA StartedAt: 2025-11-07 15:33:50 -0500 (Fri, 07 Nov 2025) EndedAt: 2025-11-07 15:33:56 -0500 (Fri, 07 Nov 2025) EllapsedTime: 5.2 seconds RetCode: 0 Status: OK