Package: SPIA Version: 2.63.0 Command: /home/biocbuild/bbs-3.23-bioc/R/bin/R CMD build --keep-empty-dirs --no-resave-data SPIA StartedAt: 2025-11-07 20:12:19 -0500 (Fri, 07 Nov 2025) EndedAt: 2025-11-07 20:17:31 -0500 (Fri, 07 Nov 2025) EllapsedTime: 311.2 seconds RetCode: 0 Status: OK PackageFile: SPIA_2.63.0.tar.gz PackageFileSize: 2.549 MiB