Package: SPIA Version: 2.61.0 Command: /Library/Frameworks/R.framework/Resources/bin/R CMD build --keep-empty-dirs --no-resave-data SPIA StartedAt: 2025-10-17 19:36:24 -0400 (Fri, 17 Oct 2025) EndedAt: 2025-10-17 19:42:26 -0400 (Fri, 17 Oct 2025) EllapsedTime: 362.5 seconds RetCode: 0 Status: OK PackageFile: SPIA_2.61.0.tar.gz PackageFileSize: 2.549 MiB