Package: SPIA Version: 2.61.0 Command: /Library/Frameworks/R.framework/Resources/bin/R CMD INSTALL SPIA StartedAt: 2025-10-12 15:08:42 -0400 (Sun, 12 Oct 2025) EndedAt: 2025-10-12 15:08:44 -0400 (Sun, 12 Oct 2025) EllapsedTime: 2.8 seconds RetCode: 0 Status: OK