Package: SPIA Version: 2.61.0 Command: /Library/Frameworks/R.framework/Resources/bin/R CMD build --keep-empty-dirs --no-resave-data SPIA StartedAt: 2025-10-12 17:47:04 -0400 (Sun, 12 Oct 2025) EndedAt: 2025-10-12 17:49:31 -0400 (Sun, 12 Oct 2025) EllapsedTime: 146.7 seconds RetCode: 0 Status: OK PackageFile: SPIA_2.61.0.tar.gz PackageFileSize: 2.549 MiB