Package: SPEM Version: 1.51.0 Command: /home/biocbuild/bbs-3.23-bioc/R/bin/R CMD INSTALL SPEM StartedAt: 2025-11-20 15:13:22 -0500 (Thu, 20 Nov 2025) EndedAt: 2025-11-20 15:13:27 -0500 (Thu, 20 Nov 2025) EllapsedTime: 4.5 seconds RetCode: 0 Status: OK