Package: SPEM Version: 1.49.0 Command: /Library/Frameworks/R.framework/Resources/bin/R CMD INSTALL SPEM StartedAt: 2025-10-10 15:20:53 -0400 (Fri, 10 Oct 2025) EndedAt: 2025-10-10 15:21:11 -0400 (Fri, 10 Oct 2025) EllapsedTime: 18.1 seconds RetCode: 0 Status: OK