Package: SPEM Version: 1.49.0 Command: /Library/Frameworks/R.framework/Resources/bin/R CMD build --keep-empty-dirs --no-resave-data SPEM StartedAt: 2025-10-12 19:24:59 -0400 (Sun, 12 Oct 2025) EndedAt: 2025-10-12 19:25:16 -0400 (Sun, 12 Oct 2025) EllapsedTime: 16.1 seconds RetCode: 0 Status: OK PackageFile: SPEM_1.49.0.tar.gz PackageFileSize: 599.9 KiB