Package: SPEM Version: 1.49.0 Command: rm -rf SPEM.buildbin-libdir && mkdir SPEM.buildbin-libdir && /Users/biocbuild/BBS/utils/build-universal.sh SPEM_1.49.0.tar.gz /Library/Frameworks/R.framework/Resources/bin/R SPEM.buildbin-libdir StartedAt: 2025-10-13 02:59:32 -0400 (Mon, 13 Oct 2025) EndedAt: 2025-10-13 02:59:41 -0400 (Mon, 13 Oct 2025) EllapsedTime: 9.3 seconds RetCode: 0 Status: OK PackageFile: SPEM_1.49.0.tgz PackageFileSize: 497.9 KiB