Package: SPEM Version: 1.49.0 Maintainer: Xinyi YANG MaintainerEmail: yangxinyi at picb.ac.cn git_url: https://git.bioconductor.org/packages/SPEM git_branch: devel git_last_commit: 137e464 git_last_commit_date: 2025-04-15 10:23:09 -0400 (Tue, 15 Apr 2025)