Package: SOMNiBUS Version: 1.17.0 Command: /Library/Frameworks/R.framework/Resources/bin/R CMD INSTALL SOMNiBUS StartedAt: 2025-10-14 15:37:57 -0400 (Tue, 14 Oct 2025) EndedAt: 2025-10-14 15:39:05 -0400 (Tue, 14 Oct 2025) EllapsedTime: 67.8 seconds RetCode: 0 Status: OK