Package: SOMNiBUS Version: 1.17.0 Command: rm -rf SOMNiBUS.buildbin-libdir && mkdir SOMNiBUS.buildbin-libdir && /Users/biocbuild/BBS/utils/build-universal.sh SOMNiBUS_1.17.0.tar.gz /Library/Frameworks/R.framework/Resources/bin/R SOMNiBUS.buildbin-libdir StartedAt: 2025-10-15 03:10:16 -0400 (Wed, 15 Oct 2025) EndedAt: 2025-10-15 03:11:27 -0400 (Wed, 15 Oct 2025) EllapsedTime: 70.4 seconds RetCode: 0 Status: OK PackageFile: SOMNiBUS_1.17.0.tgz PackageFileSize: 638 KiB