Package: SOMNiBUS Version: 1.17.0 Command: /Library/Frameworks/R.framework/Resources/bin/R CMD build --keep-empty-dirs --no-resave-data SOMNiBUS StartedAt: 2025-09-29 17:45:08 -0400 (Mon, 29 Sep 2025) EndedAt: 2025-09-29 17:47:43 -0400 (Mon, 29 Sep 2025) EllapsedTime: 155.7 seconds RetCode: 0 Status: OK PackageFile: SOMNiBUS_1.17.0.tar.gz PackageFileSize: 1.034 MiB