Package: SOMNiBUS Version: 1.17.0 Maintainer: Kathleen Klein MaintainerEmail: kathleen.klein at mail.mcgill.ca git_url: https://git.bioconductor.org/packages/SOMNiBUS git_branch: devel git_last_commit: 83171d7 git_last_commit_date: 2025-04-15 12:18:18 -0400 (Tue, 15 Apr 2025)