Package: SNPhood Version: 1.41.0 Command: /Library/Frameworks/R.framework/Resources/bin/R CMD INSTALL SNPhood StartedAt: 2025-11-20 15:21:32 -0500 (Thu, 20 Nov 2025) EndedAt: 2025-11-20 15:21:58 -0500 (Thu, 20 Nov 2025) EllapsedTime: 26.1 seconds RetCode: 0 Status: OK