Package: SNPhood Version: 1.41.0 Command: /Library/Frameworks/R.framework/Resources/bin/R CMD build --keep-empty-dirs --no-resave-data SNPhood StartedAt: 2025-11-20 17:44:37 -0500 (Thu, 20 Nov 2025) EndedAt: 2025-11-20 17:46:46 -0500 (Thu, 20 Nov 2025) EllapsedTime: 128.4 seconds RetCode: 0 Status: OK PackageFile: SNPhood_1.41.0.tar.gz PackageFileSize: 6.775 MiB