Package: SNPediaR Version: 1.37.0 Command: /home/biocbuild/bbs-3.23-bioc/R/bin/R CMD build --keep-empty-dirs --no-resave-data SNPediaR StartedAt: 2025-11-20 20:10:47 -0500 (Thu, 20 Nov 2025) EndedAt: 2025-11-20 20:10:54 -0500 (Thu, 20 Nov 2025) EllapsedTime: 7.0 seconds RetCode: 0 Status: OK PackageFile: SNPediaR_1.37.0.tar.gz PackageFileSize: 230.5 KiB