Package: SNPediaR Version: 1.35.0 Command: rm -rf SNPediaR.buildbin-libdir && mkdir SNPediaR.buildbin-libdir && /Users/biocbuild/BBS/utils/build-universal.sh SNPediaR_1.35.0.tar.gz /Library/Frameworks/R.framework/Resources/bin/R SNPediaR.buildbin-libdir StartedAt: 2025-10-18 03:23:49 -0400 (Sat, 18 Oct 2025) EndedAt: 2025-10-18 03:23:56 -0400 (Sat, 18 Oct 2025) EllapsedTime: 6.9 seconds RetCode: 0 Status: OK PackageFile: SNPediaR_1.35.0.tgz PackageFileSize: 244.3 KiB