Package: SNPRelate Version: 1.43.1 Command: /home/biocbuild/bbs-3.22-bioc/R/bin/R CMD INSTALL SNPRelate StartedAt: 2025-10-12 15:06:36 -0400 (Sun, 12 Oct 2025) EndedAt: 2025-10-12 15:07:11 -0400 (Sun, 12 Oct 2025) EllapsedTime: 35.7 seconds RetCode: 0 Status: OK