Package: SNPRelate Version: 1.43.1 Command: /home/biocbuild/bbs-3.22-bioc/R/bin/R CMD build --keep-empty-dirs --no-resave-data --md5 SNPRelate StartedAt: 2025-10-12 20:07:26 -0400 (Sun, 12 Oct 2025) EndedAt: 2025-10-12 20:08:15 -0400 (Sun, 12 Oct 2025) EllapsedTime: 49.0 seconds RetCode: 0 Status: OK PackageFile: SNPRelate_1.43.1.tar.gz PackageFileSize: 3.323 MiB