Package: SNAGEE Version: 1.51.0 Command: /home/biocbuild/bbs-3.23-bioc/R/bin/R CMD build --keep-empty-dirs --no-resave-data SNAGEE StartedAt: 2025-11-20 20:10:06 -0500 (Thu, 20 Nov 2025) EndedAt: 2025-11-20 20:10:35 -0500 (Thu, 20 Nov 2025) EllapsedTime: 29.0 seconds RetCode: 0 Status: OK PackageFile: SNAGEE_1.51.0.tar.gz PackageFileSize: 169.4 KiB