Package: SNAGEE Version: 1.49.0 Command: /Library/Frameworks/R.framework/Resources/bin/R CMD INSTALL SNAGEE StartedAt: 2025-10-24 15:14:10 -0400 (Fri, 24 Oct 2025) EndedAt: 2025-10-24 15:14:49 -0400 (Fri, 24 Oct 2025) EllapsedTime: 39.7 seconds RetCode: 0 Status: OK