Package: SNAGEE Version: 1.49.0 Command: /Library/Frameworks/R.framework/Resources/bin/R CMD build --keep-empty-dirs --no-resave-data SNAGEE StartedAt: 2025-10-24 18:51:09 -0400 (Fri, 24 Oct 2025) EndedAt: 2025-10-24 18:51:51 -0400 (Fri, 24 Oct 2025) EllapsedTime: 42.1 seconds RetCode: 0 Status: OK PackageFile: SNAGEE_1.49.0.tar.gz PackageFileSize: 169.1 KiB