Package: SNAGEE Version: 1.49.0 Command: rm -rf SNAGEE.buildbin-libdir && mkdir SNAGEE.buildbin-libdir && /Users/biocbuild/BBS/utils/build-universal.sh SNAGEE_1.49.0.tar.gz /Library/Frameworks/R.framework/Resources/bin/R SNAGEE.buildbin-libdir StartedAt: 2025-10-25 02:05:27 -0400 (Sat, 25 Oct 2025) EndedAt: 2025-10-25 02:05:33 -0400 (Sat, 25 Oct 2025) EllapsedTime: 5.8 seconds RetCode: 0 Status: OK PackageFile: SNAGEE_1.49.0.tgz PackageFileSize: 187 KiB