Package: SNAGEE Version: 1.49.0 Command: /Library/Frameworks/R.framework/Resources/bin/R CMD INSTALL SNAGEE StartedAt: 2025-10-03 15:02:38 -0400 (Fri, 03 Oct 2025) EndedAt: 2025-10-03 15:02:47 -0400 (Fri, 03 Oct 2025) EllapsedTime: 9.5 seconds RetCode: 0 Status: OK