Package: SNAGEE Version: 1.49.0 Command: /Library/Frameworks/R.framework/Resources/bin/R CMD build --keep-empty-dirs --no-resave-data SNAGEE StartedAt: 2025-10-03 17:45:46 -0400 (Fri, 03 Oct 2025) EndedAt: 2025-10-03 17:46:03 -0400 (Fri, 03 Oct 2025) EllapsedTime: 17.2 seconds RetCode: 0 Status: OK PackageFile: SNAGEE_1.49.0.tar.gz PackageFileSize: 169.3 KiB