Package: SNAGEE Version: 1.49.0 Command: rm -rf SNAGEE.buildbin-libdir && mkdir SNAGEE.buildbin-libdir && /Users/biocbuild/BBS/utils/build-universal.sh SNAGEE_1.49.0.tar.gz /Library/Frameworks/R.framework/Resources/bin/R SNAGEE.buildbin-libdir StartedAt: 2025-10-03 22:56:38 -0400 (Fri, 03 Oct 2025) EndedAt: 2025-10-03 22:56:40 -0400 (Fri, 03 Oct 2025) EllapsedTime: 2.0 seconds RetCode: 0 Status: OK PackageFile: SNAGEE_1.49.0.tgz PackageFileSize: 187.4 KiB