Package: SMITE Version: 1.39.0 Command: /home/biocbuild/bbs-3.23-bioc/R/bin/R CMD INSTALL SMITE StartedAt: 2025-11-23 15:44:40 -0500 (Sun, 23 Nov 2025) EndedAt: 2025-11-23 15:45:27 -0500 (Sun, 23 Nov 2025) EllapsedTime: 47.0 seconds RetCode: 0 Status: OK