Package: SMITE Version: 1.39.0 Command: /home/biocbuild/bbs-3.23-bioc/R/bin/R CMD build --keep-empty-dirs --no-resave-data SMITE StartedAt: 2025-11-23 20:08:20 -0500 (Sun, 23 Nov 2025) EndedAt: 2025-11-23 20:09:32 -0500 (Sun, 23 Nov 2025) EllapsedTime: 72.1 seconds RetCode: 0 Status: OK PackageFile: SMITE_1.39.0.tar.gz PackageFileSize: 3.087 MiB