Package: SMITE Version: 1.39.0 Command: /Library/Frameworks/R.framework/Resources/bin/R CMD INSTALL SMITE StartedAt: 2025-11-24 15:22:32 -0500 (Mon, 24 Nov 2025) EndedAt: 2025-11-24 15:22:51 -0500 (Mon, 24 Nov 2025) EllapsedTime: 19.4 seconds RetCode: 0 Status: OK