Package: SMITE Version: 1.39.0 Command: /Library/Frameworks/R.framework/Resources/bin/R CMD build --keep-empty-dirs --no-resave-data SMITE StartedAt: 2025-11-24 17:51:13 -0500 (Mon, 24 Nov 2025) EndedAt: 2025-11-24 17:51:49 -0500 (Mon, 24 Nov 2025) EllapsedTime: 35.4 seconds RetCode: 0 Status: OK PackageFile: SMITE_1.39.0.tar.gz PackageFileSize: 3.119 MiB