Package: SMAD Version: 1.27.0 Command: /home/biocbuild/bbs-3.23-bioc/R/bin/R CMD INSTALL SMAD StartedAt: 2025-11-20 15:08:28 -0500 (Thu, 20 Nov 2025) EndedAt: 2025-11-20 15:08:42 -0500 (Thu, 20 Nov 2025) EllapsedTime: 14.1 seconds RetCode: 0 Status: OK