Package: SMAD Version: 1.27.0 Command: /Library/Frameworks/R.framework/Resources/bin/R CMD INSTALL SMAD StartedAt: 2025-11-21 15:15:45 -0500 (Fri, 21 Nov 2025) EndedAt: 2025-11-21 15:16:12 -0500 (Fri, 21 Nov 2025) EllapsedTime: 26.4 seconds RetCode: 0 Status: OK