Package: SMAD Version: 1.27.0 Command: /Library/Frameworks/R.framework/Resources/bin/R CMD build --keep-empty-dirs --no-resave-data SMAD StartedAt: 2025-11-20 18:46:39 -0500 (Thu, 20 Nov 2025) EndedAt: 2025-11-20 18:47:04 -0500 (Thu, 20 Nov 2025) EllapsedTime: 25.1 seconds RetCode: 0 Status: OK PackageFile: SMAD_1.27.0.tar.gz PackageFileSize: 399.2 KiB