Package: SMAD Version: 1.25.0 Command: /Library/Frameworks/R.framework/Resources/bin/R CMD INSTALL SMAD StartedAt: 2025-10-23 15:05:14 -0400 (Thu, 23 Oct 2025) EndedAt: 2025-10-23 15:05:18 -0400 (Thu, 23 Oct 2025) EllapsedTime: 3.8 seconds RetCode: 0 Status: OK