Package: SMAD Version: 1.25.0 Command: /Library/Frameworks/R.framework/Resources/bin/R CMD build --keep-empty-dirs --no-resave-data SMAD StartedAt: 2025-10-23 17:51:21 -0400 (Thu, 23 Oct 2025) EndedAt: 2025-10-23 17:51:30 -0400 (Thu, 23 Oct 2025) EllapsedTime: 9.1 seconds RetCode: 0 Status: OK PackageFile: SMAD_1.25.0.tar.gz PackageFileSize: 399.2 KiB