Package: SLqPCR Version: 1.75.0 Command: /home/biocbuild/R/R/bin/R CMD build --keep-empty-dirs --no-resave-data SLqPCR StartedAt: 2025-10-03 03:18:25 -0000 (Fri, 03 Oct 2025) EndedAt: 2025-10-03 03:18:31 -0000 (Fri, 03 Oct 2025) EllapsedTime: 6.0 seconds RetCode: 0 Status: OK PackageFile: SLqPCR_1.75.0.tar.gz PackageFileSize: 215.1 KiB