Package: SLqPCR Version: 1.75.0 Command: chmod a+r SLqPCR -R && F:\biocbuild\bbs-3.22-bioc\R\bin\R.exe CMD build --keep-empty-dirs --no-resave-data SLqPCR StartedAt: 2025-08-14 23:22:19 -0400 (Thu, 14 Aug 2025) EndedAt: 2025-08-14 23:22:32 -0400 (Thu, 14 Aug 2025) EllapsedTime: 12.6 seconds RetCode: 0 Status: OK PackageFile: SLqPCR_1.75.0.tar.gz PackageFileSize: 122.8 KiB