Package: SLqPCR Version: 1.75.0 Command: /home/biocbuild/bbs-3.22-bioc/R/bin/R CMD INSTALL SLqPCR StartedAt: 2025-10-03 15:02:30 -0400 (Fri, 03 Oct 2025) EndedAt: 2025-10-03 15:02:41 -0400 (Fri, 03 Oct 2025) EllapsedTime: 11.6 seconds RetCode: 0 Status: OK