Package: SLqPCR Version: 1.77.0 Command: /home/biocbuild/bbs-3.23-bioc/R/bin/R CMD build --keep-empty-dirs --no-resave-data SLqPCR StartedAt: 2025-11-20 20:09:23 -0500 (Thu, 20 Nov 2025) EndedAt: 2025-11-20 20:09:28 -0500 (Thu, 20 Nov 2025) EllapsedTime: 5.0 seconds RetCode: 0 Status: OK PackageFile: SLqPCR_1.77.0.tar.gz PackageFileSize: 220.5 KiB