Package: SLqPCR Version: 1.75.0 Command: /Library/Frameworks/R.framework/Resources/bin/R CMD INSTALL SLqPCR StartedAt: 2025-10-03 15:02:11 -0400 (Fri, 03 Oct 2025) EndedAt: 2025-10-03 15:02:13 -0400 (Fri, 03 Oct 2025) EllapsedTime: 1.9 seconds RetCode: 0 Status: OK