Package: SLqPCR Version: 1.75.0 Command: rm -rf SLqPCR.buildbin-libdir && mkdir SLqPCR.buildbin-libdir && /Users/biocbuild/BBS/utils/build-universal.sh SLqPCR_1.75.0.tar.gz /Library/Frameworks/R.framework/Resources/bin/R SLqPCR.buildbin-libdir StartedAt: 2025-10-03 22:56:33 -0400 (Fri, 03 Oct 2025) EndedAt: 2025-10-03 22:56:35 -0400 (Fri, 03 Oct 2025) EllapsedTime: 2.0 seconds RetCode: 0 Status: OK PackageFile: SLqPCR_1.75.0.tgz PackageFileSize: 237.1 KiB