Package: SLqPCR Version: 1.75.0 Maintainer: Matthias Kohl MaintainerEmail: kohl at sirs-lab.com git_url: https://git.bioconductor.org/packages/SLqPCR git_branch: devel git_last_commit: 98caecc git_last_commit_date: 2025-04-15 09:40:01 -0400 (Tue, 15 Apr 2025)