Package: SIMLR Version: 1.35.0 Command: /home/biocbuild/R/R/bin/R CMD INSTALL SIMLR StartedAt: 2025-10-02 20:21:13 -0000 (Thu, 02 Oct 2025) EndedAt: 2025-10-02 20:21:54 -0000 (Thu, 02 Oct 2025) EllapsedTime: 40.8 seconds RetCode: 0 Status: OK