Package: SIMLR Version: 1.35.0 Command: /home/biocbuild/R/R/bin/R CMD build --keep-empty-dirs --no-resave-data SIMLR StartedAt: 2025-10-03 03:14:38 -0000 (Fri, 03 Oct 2025) EndedAt: 2025-10-03 03:16:24 -0000 (Fri, 03 Oct 2025) EllapsedTime: 106.0 seconds RetCode: 0 Status: OK PackageFile: SIMLR_1.35.0.tar.gz PackageFileSize: 4.099 MiB