Package: SIMLR Version: 1.37.0 Command: /home/biocbuild/bbs-3.23-bioc/R/bin/R CMD INSTALL SIMLR StartedAt: 2025-11-02 15:11:29 -0500 (Sun, 02 Nov 2025) EndedAt: 2025-11-02 15:11:52 -0500 (Sun, 02 Nov 2025) EllapsedTime: 23.7 seconds RetCode: 0 Status: OK