Package: SIMLR Version: 1.37.0 Command: /home/biocbuild/bbs-3.23-bioc/R/bin/R CMD check --install=check:SIMLR.install-out.txt --library=/home/biocbuild/bbs-3.23-bioc/R/site-library --timings SIMLR_1.37.0.tar.gz StartedAt: 2025-11-01 03:35:11 -0400 (Sat, 01 Nov 2025) EndedAt: 2025-11-01 03:41:21 -0400 (Sat, 01 Nov 2025) EllapsedTime: 370.4 seconds RetCode: 0 Status: OK CheckDir: SIMLR.Rcheck Warnings: 0